BEGIN:VCALENDAR
VERSION:2.0
PRODID:spatie/icalendar-generator
NAME:Southwest Atlanta Area of Narcotics Anonymous
X-WR-CALNAME:Southwest Atlanta Area of Narcotics Anonymous
DESCRIPTION:Events for Southwest Atlanta Area of Narcotics Anonymous
X-WR-CALDESC:Events for Southwest Atlanta Area of Narcotics Anonymous
BEGIN:VEVENT
UID:570-1792857600-1792872000@swatlna.com
SUMMARY:Chili Cook Off
DESCRIPTION:SWATL of NA annual Chili Cook Off and GRCNA Fundraiser. Bring y
 our best pot of chili and compete for a prize! Come enjoy fellowship and g
 reat food.
URL:https://swatlna.com/event/chili-cook-off/
DTSTART;TZID=-04:00:20261024T120000
DTEND;TZID=-04:00:20261024T160000
DTSTAMP;TZID=UTC:20260423T165227
END:VEVENT
END:VCALENDAR