BEGIN:VCALENDAR
VERSION:2.0
PRODID:spatie/icalendar-generator
NAME:Southwest Atlanta Area of Narcotics Anonymous
X-WR-CALNAME:Southwest Atlanta Area of Narcotics Anonymous
DESCRIPTION:Events for Southwest Atlanta Area of Narcotics Anonymous
X-WR-CALDESC:Events for Southwest Atlanta Area of Narcotics Anonymous
BEGIN:VEVENT
UID:584-1777734000-1777759200@swatlna.com
SUMMARY:Speaker Jam
DESCRIPTION:Get ready for the Recovery Rockstars Speaker Jam\, a GRCNA Fund
 raiser hosted by the Southwest Area of Narcotics Anonymous! Join us on May
  2 from 11:00 AM to 6:00 PM at Ultimate Weapon\, located at 847 New Hope R
 d\, Fayetteville\, GA 30214. This exciting event promises a day filled wit
 h great speakers\, fellowship\, and food—all of which are provided. All 
 proceeds go directly to benefit the GRCNA fund\, so come out to hear vario
 us speakers share their experience\, strength\, and hope while supporting 
 a great cause. For more information\, visit GRCNA.org or SWATLNA.com.
LOCATION:847 New Hope Rd\, Fayetteville\, Ga 30214
URL:https://swatlna.com/event/speaker-jam/
DTSTART;TZID=-04:00:20260502T110000
DTEND;TZID=-04:00:20260502T180000
DTSTAMP;TZID=UTC:20260423T164835
END:VEVENT
END:VCALENDAR